Workbook
Name \0: '[1]P&G Build-up'!#REF!
Name \C: '[1]P&G Build-up'!#REF!
Name \Z: '[1]P&G Build-up'!#REF!
Name __PH3: #REF!
Name _A: #REF!
Name _A: #REF!
Name _A: #REF!
Name _A: #REF!
Name _B: #REF!
Name _B: #REF!
Name _B: #REF!
Name _B: #REF!
Name _C: #REF!
Name _C: #REF!
Name _C: #REF!
Name _C: #REF!
Name _D: #REF!
Name _D: #REF!
Name _D: #REF!
Name _D: #REF!
Name _gfa1: #REF!
Name _gfa1: #REF!
Name _gfa1: #REF!
Name _gfa1: #REF!
Name _PH3: #REF!
Name A_0: #REF!
Name A_0: #REF!
Name A_0: #REF!
Name A_0: #REF!
Name A_13: #REF!
Name A_13: #REF!
Name A_13: #REF!
Name A_13: #REF!
Name A_16: #REF!
Name A_16: #REF!
Name A_16: #REF!
Name A_16: #REF!
Name A_17: #REF!
Name A_17: #REF!
Name A_17: #REF!
Name A_17: #REF!
Name A_21: #REF!
Name A_21: #REF!
Name A_21: #REF!
Name A_21: #REF!
Name A_22: #REF!
Name A_22: #REF!
Name A_22: #REF!
Name A_22: #REF!
Name A_23: #REF!
Name A_23: #REF!
Name A_23: #REF!
Name A_23: #REF!
Name A_24: #REF!
Name A_24: #REF!
Name A_24: #REF!
Name A_24: #REF!
Name A_27: #REF!
Name A_27: #REF!
Name A_27: #REF!

Sheet Cover Sheet
B5: BILL OF QUANTITIES
B7: NEW NATIONAL HOSPITAL
B8: MARGETSON HOUSE REFURBISHMENT
B10: St. John, Montserrat
E15: 4 APRIL 2023
B18: Prepared By
B20: Rider Levett Bucknall (St. Lucia) Ltd.
B21: Mercury Court
B22: Choc Estate
B23: P.O. Box CP5747
B24: Castries, St. Lucia
B25: T: 1 758 452 2125 / 6
B27: RLB.com

Sheet Contents
B2: NEW NATIONAL HOSPITAL
B3: MARGETSON HOUSE REFURBISHMENT
B4: ST. JOHN,
B5: MONTSERRAT
B16: CONTRACTOR'S NAME:
B20: CONTRACT AMOUNT: | D20: =Summary!C92 -> 0
B35: CONDITIONS OF CONTRACT
B36: BILLS OF QUANTITIES
B53: APRIL 2023
A59: CONTENTS
B65: Bills of Quantities
B67: 1 | C67: Preliminaries and General Conditions
B69: 2 | C69: Schedule of Drawings
B71: 3 | C71: Measured Works
B73: 4 | C73: Summary

Sheet GD
A3: NEW NATIONAL HOSPITAL ST. JOHN, MONSTERRAT
A5: MARGETSON HOUSE REFURBISHMENT
B13: GENERAL CONDITIONS

Sheet General
B2: NEW NATIONAL HOSPITAL
B3: BILL OF QUANTITIES
B4: MARGETSON HOUSE REFURBISHMENT
B7: GENERAL CONDITIONS
B9: NAMES OF PARTIES
A11: a | B11: "Employer" Shall mean -
B13: Ministry of Health | C13: Telephone:
B14: E.K. Osbourne Building | C14: Fax:
B15: Little Bay | C15: Email:
B16: Montserrat
A18: b | B18: "Architect" shall mean -
B20: Article 25 Humanitarian Architecture | C20: Telephone: +44 (0)20 3197 9800
B21: 1 Canada Square | C21: Email: joseph-davis@article-25.org
B22: E14 5AB | C22: Web: www.article-25.org
B23: United Kingdom
A25: c | B25: "Structural Engineer" shall mean -
B27: Clarkebond | C27: Telephone: +44 (0) 1392 369098
B28: GF Suite, Bickleigh House | C28: Fax: +44 (0) 1392 369100
B29: Park Five Business Centre, | C29: Email: exeter@clarkebond.co.uk
B30: Sowton, Exeter EX2 7HU | C30: Web: www.clarkebond.com
A32: d | B32: "Quantity Surveyor" shall mean -
B34: Rider Levett Bucknall (St. Lucia) Ltd | C34: Telephone: (758) 452 2125
B35: Mercury Court, Choc Estate | C35: Email: david.piper@lc.rlb.com
B36: P.O. Box CP5745, | C36: Web: www.rlb.com
B37: Castries, St. Lucia
A39: e | B39: DESCRIPTION OF WORKS
B41: The works comprise the refurbishment of an existing two level concrete building.
B43: This includes demolition, partitioning, changes to floor, wall and ceiling finishes, electrical, plumbing, HVAC. Adding stair cases, widening main entrance etc.
B45: There are offices, labortories, washrooms, kitchen, storage, service closets etc.
B47: GENERAL MATTERS
A49: e | B49: ACCESS TO SITE
B51: Access will be through the main entrance to the hospital site as agreed with the GoM Supervisor and Hospital Director
A53: f | B53: METHOD OF MEASUREMENT
B55: The Bills of Quantities have been prepared generally in accordance with the Principles of Measurement (International) For Works of Construction 1st Edition June 1979 issued by the Royal Institution of Chartered Surveyors.
A57: g | B57: LEVELS AND SETTING OUT THE WORKS
B59: The Architect shall determine any levels which may be required for the execution of the Works, and shall furnish to the Contractor by way of accurately dimensioned drawings such information as shall enable the Contractor to set out the Works at ground level. Unless the Architect shall otherwise instruct, in which case the contract sum shall be adjusted accordingly, the Contractor shall be responsible for and shall entirely at his own cost amend any errors arising from his own inaccurate setting out.
A61: h | B61: FOREMAN-IN-CHARGE
B63: The Contractor shall constantly keep upon the Works a competent foreman-in-charge and any instructions given to him by the Architect shall be deemed to have been issued to the Contractor.
A65: i | B65: CURRENCY
B67: All reference to currency in this Contract is to Eastern Caribbean Currency.
...

Sheet MHBOQ
A3: NEW NATIONAL HOSPITAL ST. JOHN, MONSTERRAT
A5: MARGETSON HOUSE REFURBISHMENT
B13: BILL OF QUANTITIES

Sheet Measured Works
A1: NEW NATIONAL HOSPITAL
A2: MARGETSON HOUSE REFURBISHMENT
A3: BILL OF QUANTITIES
A5: Ref | B5: Description | C5: Unit | D5: Qty | E5: Rate EC$ | F5: Total Cost EC$
B7: 02 EXISTING CONDITIONS
A8: D2010 | B8: Plumbing Fixtures
A9: 19 | B9: Take down, remove existing shower, set aside for potential re-use | C9: No | D9: 8 | F9: =D9*E9 -> 0
A10: 20 | B10: Take down, remove existing WC, set aside for potential re-use | C10: No | D10: 6 | F10: =D10*E10 -> 0
A11: 21 | B11: Take down, remove existing lav sink, set aside for potential re-use | C11: No | D11: 6 | F11: =D11*E11 -> 0
A12: 22 | B12: Take down, remove existing ADA shower, set aside for potential re-use | C12: No | D12: 4 | F12: =D12*E12 -> 0
B13: D2010 - Plumbing Fixtures | F13: =SUM(F9:F12) -> 0
A14: D2090 | B14: Other Plumbing Systems
A15: 354 | B15: Bain Marie: Cut out 1m wide slot in floor slab and dispose of concrete waste where directed onsite | C15: SY | D15: 4 | F15: =D15*E15 -> 0
B16: D-2090 - Other Plumbing Systems | F16: =SUM(F15) -> 0
A17: D3040 | B17: Distribution Systems
A18: 24 | B18: Take down, remove existing AC ductwork and accessories (Room 0.08 Pharmacy Store) - assumed 20" x 20" galv insulated duct | C18: SF | D18: 307 | F18: =D18*E18 -> 0
B19: D3040 - Distribution Systems | F19: =SUM(F18) -> 0
A20: F2010 | B20: Building Elements Demolition
A21: 1 | B21: Carefully take down and remove single leaf door including frame, ironmongery and accessories, set aside for potential re-use | C21: No | D21: 9 | F21: =D21*E21 -> 0
A22: 2 | B22: Carefully take down and remove double leaf door including frame, ironmongery and accessories, set aside for potential re-use | C22: No | D22: 4 | F22: =D22*E22 -> 0
A23: 3 | B23: Carefully take down and remove 4'-0" wide internal window including frame and accessories, set aside for potential re-use | C23: No | D23: 3 | F23: =D23*E23 -> 0
A24: 4 | B24: Take down, remove and dispose partitions where directed on site | C24: LF | D24: 162 | F24: =D24*E24 -> 0
A25: 5 | B25: Take down, remove and dispose walls where directed on site | C25: LF | D25: 88 | F25: =D25*E25 -> 0
A26: 6 | B26: Take down, remove and dispose walls to create door opening where directed on site | C26: LF | D26: 7 | F26: =D26*E26 -> 0
A27: 7 | B27: Removal of tiled upstand in shower, dispose where directed on site | C27: LF | D27: 29 | F27: =D27*E27 -> 0
A28: 8 | B28: Take down, remove and dispose of railing and pillars offsite | C28: LF | D28: 21 | F28: =D28*E28 -> 0
A29: 9 | B29: Take down and remove extension above switch room (assume walls), dispose where directed onsite | C29: LF | D29: 20 | F29: =D29*E29 -> 0
A30: 10 | B30: Stair, walls and pillars to be removed to widen access, dispose where directed on site | C30: SF | D30: 85 | F30: =D30*E30 -> 0
A31: 11 | B31: Removal of kitchen cupboards 2'-0" wide (assume floor mounted only), dispose offsite | C31: LF | D31: 20 | F31: =D31*E31 -> 0
A32: 12 | B32: Removal of nurses station 1'-8" wide, dispose offsite | C32: LF | D32: 6 | F32: =D32*E32 -> 0
... A35: 331 | B35: Take down, remove and dispose where directed onsite veranda balustrades | C35: SF | D35: 215 | F35: =D35*E35 -> 0
B36: F2010 - Building Elements Demolition | F36: =SUM(F21:F35) -> 0
B37: 02 - EXISTING CONDITIONS | F37: =F13+F16+F19+F36 -> 0
B40: 31 EARTHWORK
A41: A1010 | B41: Standard Foundations
A42: 132 | B42: Kitchen extension; excavate trenches for strip footing | C42: CY | D42: 4 | F42: =D42*E42 -> 0
A43: 133 | B43: Kitchen extension; level and compact bottom of trenches to receive concrete | C43: SY | D43: 4 | F43: =D43*E43 -> 0
A44: 134 | B44: Kitchen extension; return fill and ram selected excavated material around foundations | C44: CY | D44: 2 | F44: =D44*E44 -> 0
A45: 135 | B45: Kitchen extension; dispose of surplus excavated material on site | C45: CY | D45: 2 | F45: =D45*E45 -> 0
A46: 136 | B46: Kitchen extension; backfill below slab with well compacted Type 1 material | C46: CY | D46: 2 | F46: =D46*E46 -> 0
...

Sheet MHS
A3: NEW NATIONAL HOSPITAL ST. JOHN, MONSTERRAT
A5: MARGETSON HOUSE REFURBISHMENT
B13: SUMMARY

Sheet Summary
A1: NEW NATIONAL HOSPITAL
A2: MARGETSON HOUSE REFURBISHMENT
A3: SUMMARY PAGE
A4: Ref | B4: Description | C4: Total Cost EC$
B6: Preliminaries and General Conditions | C6: 0
A8: 02 | B8: Existing Conditions
A9: D2010 | B9: Plumbing Fixtures | C9: ='Measured Works'!F13 -> 0
A10: D2090 | B10: Other Plumbing Systems | C10: ='Measured Works'!F16 -> 0
A11: D3040 | B11: Distribution Systems | C11: ='Measured Works'!F19 -> 0
A12: F2010 | B12: Building Elements Demolition | C12: ='Measured Works'!F36 -> 0
B13: 02 - Existing Conditions | C13: =SUM(C9:C12) -> 0
A14: 31 | B14: Earthwork
A15: A1010 | B15: Standard Foundations | C15: ='Measured Works'!F58 -> 0
A16: C2010 | B16: Stair Construction | C16: ='Measured Works'!F68 -> 0
A17: D2090 | B17: Other Plumbing Systems | C17: ='Measured Works'!F75 -> 0
B18: 31 - Earthwork | C18: =SUM(C15:C17) -> 0
A19: 03 | B19: Concrete
A20: A1010 | B20: Standard Foundations | C20: ='Measured Works'!F95 -> 0
A21: B1010 | B21: Floor Construction | C21: ='Measured Works'!F112 -> 0
A22: B1020 | B22: Roof Construction | C22: ='Measured Works'!F118 -> 0
A23: C2010 | B23: Stair Construction | C23: ='Measured Works'!F140 -> 0
A24: D2090 | B24: Other Plumbing Systems | C24: ='Measured Works'!F145 -> 0
A25: G2030 | B25: Pedestrian Paving | C25: ='Measured Works'!F153 -> 0
B26: 03 - Concrete | C26: =SUM(C20:C25) -> 0
A27: 04 | B27: Masonry
A28: A1010 | B28: Standard Foundations | C28: ='Measured Works'!F160 -> 0
A29: B2010 | B29: Exterior Walls | C29: ='Measured Works'!F165 -> 0
A30: C1010 | B30: Partitions | C30: ='Measured Works'!F169 -> 0
A31: C2010 | B31: Stair Construction | C31: ='Measured Works'!F173 -> 0
B32: 04 - Masonry | C32: =SUM(C28:C31) -> 0
A33: 05 | B33: Metals
A34: B1020 | B34: Roof Construction | C34: ='Measured Works'!F185 -> 0
B35: 05 - Metals | C35: =SUM(C34) -> 0
A36: 06 | B36: Wood, Plastics, and Composites
A37: B1020 | B37: Roof Construction | C37: ='Measured Works'!F209 -> 0
A38: C3020 | B38: Floor Finishes | C38: ='Measured Works'!F213 -> 0
B39: 06 - Wood, Plastics, and Composites | C39: =SUM(C37:C38) -> 0
A40: 07 | B40: Thermal and Moisture Protection
A41: C2010 | B41: Stair Construction | C41: ='Measured Works'!F219 -> 0
B42: 07 - Thermal and Moisture Protection | C42: =SUM(C41) -> 0
...
